BEGIN:VCALENDAR
VERSION:2.0
PRODID:-//Squarespace Inc/Squarespace 6//v6//EN
BEGIN:VEVENT
UID:5aea9ff2575d1f6c11926f38@squarespace.com
DTSTAMP:20180508T025651Z
DTSTART:20180508T230000Z
DTEND:20180509T020000Z
SUMMARY:BINGO 
END:VEVENT
END:VCALENDAR
