BEGIN:VCALENDAR
VERSION:2.0
PRODID:-//Squarespace Inc/Squarespace 6//v6//EN
BEGIN:VEVENT
UID:5b7b5cdb8a922d103f7e40d9@squarespace.com
DTSTAMP:20180821T003052Z
DTSTART:20180907T233000Z
DTEND:20180908T003000Z
SUMMARY:SING OUT\, LOUISE
END:VEVENT
END:VCALENDAR
