BEGIN:VCALENDAR
VERSION:2.0
PRODID:-//Squarespace Inc/Squarespace 6//v6//EN
BEGIN:VEVENT
UID:5b7b5d3cf950b7433ce04f54@squarespace.com
DTSTAMP:20180821T003115Z
DTSTART:20180909T000000Z
DTEND:20180909T010000Z
SUMMARY:SING OUT\, LOUISE
END:VEVENT
END:VCALENDAR
