BEGIN:VCALENDAR
VERSION:2.0
PRODID:-//Squarespace Inc/Squarespace 6//v6//EN
BEGIN:VEVENT
UID:5b8723bc0e2e72525f12d00d@squarespace.com
DTSTAMP:20180829T225552Z
DTSTART:20180928T000000Z
DTEND:20180928T010000Z
SUMMARY:SYDNEY FRINGE: NO REST FOR THE WICKED
END:VEVENT
END:VCALENDAR
