BEGIN:VCALENDAR
VERSION:2.0
PRODID:-//Squarespace Inc/Squarespace 6//v6//EN
BEGIN:VEVENT
UID:5b8724788985830fa4f3ac3b@squarespace.com
DTSTAMP:20180829T225605Z
DTSTART:20180929T000000Z
DTEND:20180929T010000Z
SUMMARY:SYDNEY FRINGE: NO REST FOR THE WICKED
END:VEVENT
END:VCALENDAR
