BEGIN:VCALENDAR
VERSION:2.0
PRODID:-//Squarespace Inc/Squarespace 6//v6//EN
BEGIN:VEVENT
UID:5b86023d575d1f9926cfdcca@squarespace.com
DTSTAMP:20180829T063205Z
DTSTART:20180922T020000Z
DTEND:20180922T030000Z
SUMMARY:DANCING COLOURS: DO YOU REMEMBER?
END:VEVENT
END:VCALENDAR
