BEGIN:VCALENDAR
VERSION:2.0
PRODID:-//Squarespace Inc/Squarespace 6//v6//EN
BEGIN:VEVENT
UID:5b87232b8985830fa4f39679@squarespace.com
DTSTAMP:20180829T225217Z
DTSTART:20180901T204500Z
DTEND:20180902T000000Z
SUMMARY:FRINGE IGNITE - HEAT THE STREETS
END:VEVENT
END:VCALENDAR
