BEGIN:VCALENDAR
VERSION:2.0
PRODID:-//Squarespace Inc/Squarespace 6//v6//EN
BEGIN:VEVENT
UID:5b727e2f2b6a2826587edea8@squarespace.com
DTSTAMP:20180821T002318Z
DTSTART:20180902T020000Z
DTEND:20180902T030000Z
SUMMARY:CLUB MINCE FT. FALSE WITNESS
END:VEVENT
END:VCALENDAR
