BEGIN:VCALENDAR
VERSION:2.0
PRODID:-//Squarespace Inc/Squarespace 6//v6//EN
BEGIN:VEVENT
UID:5b7b5b8ecd8366de34a5eb32@squarespace.com
DTSTAMP:20180821T002512Z
DTSTART:20180831T230000Z
DTEND:20180901T000000Z
SUMMARY:MR HCB 2018 COMPETITION
END:VEVENT
END:VCALENDAR
