BEGIN:VCALENDAR
VERSION:2.0
PRODID:-//Squarespace Inc/Squarespace 6//v6//EN
BEGIN:VEVENT
UID:5b763a6570a6adad02dab8fd@squarespace.com
DTSTAMP:20180817T030229Z
DTSTART:20180819T020000Z
DTEND:20180819T030000Z
SUMMARY:OUTCAST
END:VEVENT
END:VCALENDAR
