BEGIN:VCALENDAR
VERSION:2.0
PRODID:-//Squarespace Inc/Squarespace 6//v6//EN
BEGIN:VEVENT
UID:5b5fd97270a6ad7675247d85@squarespace.com
DTSTAMP:20180731T033854Z
DTSTART:20180818T020000Z
DTEND:20180818T030000Z
SUMMARY:BRIGHTER DAYS FEAT. DJ SLYNGSHOT
END:VEVENT
END:VCALENDAR
