BEGIN:VCALENDAR
VERSION:2.0
PRODID:-//Squarespace Inc/Squarespace 6//v6//EN
BEGIN:VEVENT
UID:5b63c29c6d2a735a2a042c17@squarespace.com
DTSTAMP:20180803T025023Z
DTSTART:20180812T020000Z
DTEND:20180812T030000Z
SUMMARY:SWAGGER SYDNEY: AUGUST EDITION
END:VEVENT
END:VCALENDAR
