BEGIN:VCALENDAR
VERSION:2.0
PRODID:-//Squarespace Inc/Squarespace 6//v6//EN
BEGIN:VEVENT
UID:5b5fd8d5575d1f4e6b8097fe@squarespace.com
DTSTAMP:20180731T033640Z
DTSTART:20180810T230000Z
DTEND:20180811T000000Z
SUMMARY:ALL OF ME - AN EVENING WITH ERIN CORNELL
END:VEVENT
END:VCALENDAR
