BEGIN:VCALENDAR
VERSION:2.0
PRODID:-//Squarespace Inc/Squarespace 6//v6//EN
BEGIN:VEVENT
UID:5b5fd948575d1f4e6b80a988@squarespace.com
DTSTAMP:20180731T033658Z
DTSTART:20180812T230000Z
DTEND:20180813T000000Z
SUMMARY:ALL OF ME - AN EVENING WITH ERIN CORNELL
END:VEVENT
END:VCALENDAR
