BEGIN:VCALENDAR
VERSION:2.0
PRODID:-//Squarespace Inc/Squarespace 6//v6//EN
BEGIN:VEVENT
UID:5b30658d88251b309122feeb@squarespace.com
DTSTAMP:20180625T034721Z
DTSTART:20180708T020000Z
DTEND:20180708T030000Z
SUMMARY:HOUSE OF MINCE 7TH BIRTHDAY
END:VEVENT
END:VCALENDAR
