BEGIN:VCALENDAR
VERSION:2.0
PRODID:-//Squarespace Inc/Squarespace 6//v6//EN
BEGIN:VEVENT
UID:5b3064aef950b77f29f10829@squarespace.com
DTSTAMP:20180625T034453Z
DTSTART:20180705T010000Z
DTEND:20180705T020000Z
SUMMARY:SMS LAUNCH PARTY
END:VEVENT
END:VCALENDAR
