BEGIN:VCALENDAR
VERSION:2.0
PRODID:-//Squarespace Inc/Squarespace 6//v6//EN
BEGIN:VEVENT
UID:5b55738c03ce640beca3d809@squarespace.com
DTSTAMP:20180723T062338Z
DTSTART:20180729T230000Z
DTEND:20180730T030000Z
SUMMARY:SHOW QUEEN: STRINGS
END:VEVENT
END:VCALENDAR
