BEGIN:VCALENDAR
VERSION:2.0
PRODID:-//Squarespace Inc/Squarespace 6//v6//EN
BEGIN:VEVENT
UID:5b4ec40a575d1ff83c227cf8@squarespace.com
DTSTAMP:20180718T043935Z
DTSTART:20180729T023000Z
DTEND:20180729T073000Z
SUMMARY:FüNCKY
END:VEVENT
END:VCALENDAR
