BEGIN:VCALENDAR
VERSION:2.0
PRODID:-//Squarespace Inc/Squarespace 6//v6//EN
BEGIN:VEVENT
UID:5b4ec3941ae6cfdf102fb67a@squarespace.com
DTSTAMP:20180718T043710Z
DTSTART:20180728T020000Z
DTEND:20180728T080000Z
SUMMARY:OFF-KILTER/ BEN DRAYTON & VIBE POSITIVE
END:VEVENT
END:VCALENDAR
