BEGIN:VCALENDAR
VERSION:2.0
PRODID:-//Squarespace Inc/Squarespace 6//v6//EN
BEGIN:VEVENT
UID:5b3066461ae6cf66f74983c7@squarespace.com
DTSTAMP:20180625T035038Z
DTSTART:20180722T020000Z
DTEND:20180722T030000Z
SUMMARY:OUTCAST
END:VEVENT
END:VCALENDAR
