BEGIN:VCALENDAR
VERSION:2.0
PRODID:-//Squarespace Inc/Squarespace 6//v6//EN
BEGIN:VEVENT
UID:5b4432a2352f5316538acd69@squarespace.com
DTSTAMP:20181004T030143Z
DTSTART:20180921T000000Z
DTEND:20180921T033000Z
SUMMARY:RED LIGHT CONFIDENTIAL
END:VEVENT
END:VCALENDAR
