BEGIN:VCALENDAR
VERSION:2.0
PRODID:-//Squarespace Inc/Squarespace 6//v6//EN
BEGIN:VEVENT
UID:5bb58297c830258437b764f5@squarespace.com
DTSTAMP:20181004T030210Z
DTSTART:20181025T230000Z
DTEND:20181026T023000Z
SUMMARY:RED LIGHT CONFIDENTIAL
END:VEVENT
END:VCALENDAR
