BEGIN:VCALENDAR
VERSION:2.0
PRODID:-//Squarespace Inc/Squarespace 6//v6//EN
BEGIN:VEVENT
UID:5be4ffb8575d1fe19798be8b@squarespace.com
DTSTAMP:20181109T033308Z
DTSTART:20181116T010000Z
DTEND:20181116T043000Z
SUMMARY:RED LIGHT CONFIDENTIAL
END:VEVENT
END:VCALENDAR
