BEGIN:VCALENDAR
VERSION:2.0
PRODID:-//Squarespace Inc/Squarespace 6//v6//EN
BEGIN:VEVENT
UID:5b3eb158352f5350a10e3163@squarespace.com
DTSTAMP:20180706T000312Z
DTSTART:20180715T010000Z
DTEND:20180715T070000Z
SUMMARY:SENSE
END:VEVENT
END:VCALENDAR
