BEGIN:VCALENDAR
VERSION:2.0
PRODID:-//Squarespace Inc/Squarespace 6//v6//EN
BEGIN:VEVENT
UID:5b020c7c758d46bedb189cb1@squarespace.com
DTSTAMP:20180521T000308Z
DTSTART:20180609T010000Z
DTEND:20180609T070000Z
SUMMARY:AUSLEATHER UNDERGROUND 3
END:VEVENT
END:VCALENDAR
