BEGIN:VCALENDAR
VERSION:2.0
PRODID:-//Squarespace Inc/Squarespace 6//v6//EN
BEGIN:VEVENT
UID:5b15cc578a922d0c6b35b77e@squarespace.com
DTSTAMP:20180604T233608Z
DTSTART:20180624T230000Z
DTEND:20180625T030000Z
SUMMARY:SHOW QUEENS: THE PIANO BAR WITH BRIAN NASH
END:VEVENT
END:VCALENDAR
