BEGIN:VCALENDAR
VERSION:2.0
PRODID:-//Squarespace Inc/Squarespace 6//v6//EN
BEGIN:VEVENT
UID:5afcfe71352f5327ad17fa6d@squarespace.com
DTSTAMP:20180604T233224Z
DTSTART:20180621T230000Z
DTEND:20180622T030000Z
SUMMARY:RUPAUL'S DRAG RACE TRIVIA EXTRAVAGANZA
END:VEVENT
END:VCALENDAR
