BEGIN:VCALENDAR
VERSION:2.0
PRODID:-//Squarespace Inc/Squarespace 6//v6//EN
BEGIN:VEVENT
UID:5b15cc082b6a28229d5f2f56@squarespace.com
DTSTAMP:20180604T233316Z
DTSTART:20180623T230000Z
DTEND:20180624T030000Z
SUMMARY:RUPAUL'S DRAG RACE TRIVIA EXTRAVAGANZA 2
END:VEVENT
END:VCALENDAR
