BEGIN:VCALENDAR
VERSION:2.0
PRODID:-//Squarespace Inc/Squarespace 6//v6//EN
BEGIN:VEVENT
UID:5b2ad0bc1ae6cf310af8394c@squarespace.com
DTSTAMP:20180620T221048Z
DTSTART:20180622T000000Z
DTEND:20180622T030000Z
SUMMARY:RED LIGHT CONFIDENTIAL
END:VEVENT
END:VCALENDAR
