BEGIN:VCALENDAR
VERSION:2.0
PRODID:-//Squarespace Inc/Squarespace 6//v6//EN
BEGIN:VEVENT
UID:5afcfdd9aa4a9985669d1a7e@squarespace.com
DTSTAMP:20180517T040005Z
DTSTART:20180603T020000Z
DTEND:20180603T070000Z
SUMMARY:CLUB MINCE: X-COAST 
END:VEVENT
END:VCALENDAR
