BEGIN:VCALENDAR
VERSION:2.0
PRODID:-//Squarespace Inc/Squarespace 6//v6//EN
BEGIN:VEVENT
UID:5aeaa01b1ae6cf4e529b3f5d@squarespace.com
DTSTAMP:20180503T054640Z
DTSTART:20180509T230000Z
DTEND:20180510T020000Z
SUMMARY:TRIVIA
END:VEVENT
END:VCALENDAR
