BEGIN:VCALENDAR
VERSION:2.0
PRODID:-//Squarespace Inc/Squarespace 6//v6//EN
BEGIN:VEVENT
UID:5aeaa240758d46816cef5dfd@squarespace.com
DTSTAMP:20180503T054647Z
DTSTART:20180516T230000Z
DTEND:20180517T020000Z
SUMMARY:TRIVIA
END:VEVENT
END:VCALENDAR
