BEGIN:VCALENDAR
VERSION:2.0
PRODID:-//Squarespace Inc/Squarespace 6//v6//EN
BEGIN:VEVENT
UID:5aeaa1cf562fa782f1ba6270@squarespace.com
DTSTAMP:20180508T025801Z
DTSTART:20180515T230000Z
DTEND:20180516T020000Z
SUMMARY:BINGO
END:VEVENT
END:VCALENDAR
