BEGIN:VCALENDAR
VERSION:2.0
PRODID:-//Squarespace Inc/Squarespace 6//v6//EN
BEGIN:VEVENT
UID:5aeaa214aa4a997479fdf99e@squarespace.com
DTSTAMP:20180508T025834Z
DTSTART:20180522T230000Z
DTEND:20180523T020000Z
SUMMARY:BINGO
END:VEVENT
END:VCALENDAR
