BEGIN:VCALENDAR
VERSION:2.0
PRODID:-//Squarespace Inc/Squarespace 6//v6//EN
BEGIN:VEVENT
UID:5aeaa228aa4a997479fdfb8f@squarespace.com
DTSTAMP:20180515T010458Z
DTSTART:20180529T230000Z
DTEND:20180530T020000Z
SUMMARY:BINGO
END:VEVENT
END:VCALENDAR
