BEGIN:VCALENDAR
VERSION:2.0
PRODID:-//Squarespace Inc/Squarespace 6//v6//EN
BEGIN:VEVENT
UID:5afa323af950b7f4da23ec2c@squarespace.com
DTSTAMP:20180515T010517Z
DTSTART:20180605T230000Z
DTEND:20180606T020000Z
SUMMARY:BINGO
END:VEVENT
END:VCALENDAR
