BEGIN:VCALENDAR
VERSION:2.0
PRODID:-//Squarespace Inc/Squarespace 6//v6//EN
BEGIN:VEVENT
UID:5afa3273562fa73ebf96d1b6@squarespace.com
DTSTAMP:20180515T010603Z
DTSTART:20180619T230000Z
DTEND:20180620T020000Z
SUMMARY:BINGO
END:VEVENT
END:VCALENDAR
