BEGIN:VCALENDAR
VERSION:2.0
PRODID:-//Squarespace Inc/Squarespace 6//v6//EN
BEGIN:VEVENT
UID:5afa328b88251b0a3ecae5bf@squarespace.com
DTSTAMP:20180515T010631Z
DTSTART:20180626T230000Z
DTEND:20180627T020000Z
SUMMARY:BINGO
END:VEVENT
END:VCALENDAR
