BEGIN:VCALENDAR
VERSION:2.0
PRODID:-//Squarespace Inc/Squarespace 6//v6//EN
BEGIN:VEVENT
UID:5b30619870a6ade8bccb5a6d@squarespace.com
DTSTAMP:20180625T032939Z
DTSTART:20180703T230000Z
DTEND:20180704T020000Z
SUMMARY:BINGO
END:VEVENT
END:VCALENDAR
