BEGIN:VCALENDAR
VERSION:2.0
PRODID:-//Squarespace Inc/Squarespace 6//v6//EN
BEGIN:VEVENT
UID:5aeaa11d03ce646e4cf6a7f8@squarespace.com
DTSTAMP:20180503T054324Z
DTSTART:20180506T020000Z
DTEND:20180506T070000Z
SUMMARY:CLUB MINCE FEAT. ND_BAUMECKER
END:VEVENT
END:VCALENDAR
