BEGIN:VCALENDAR
VERSION:2.0
PRODID:-//Squarespace Inc/Squarespace 6//v6//EN
BEGIN:VEVENT
UID:5aeaa8661ae6cf4e529c0259@squarespace.com
DTSTAMP:20180503T061437Z
DTSTART:20180504T220000Z
DTEND:20180505T060000Z
SUMMARY:LEMONS WITH A TWIST & HEARTBREAKERS
END:VEVENT
END:VCALENDAR
