BEGIN:VCALENDAR
VERSION:2.0
PRODID:-//Squarespace Inc/Squarespace 6//v6//EN
BEGIN:VEVENT
UID:5aea9ed2758d46816cef0be2@squarespace.com
DTSTAMP:20180503T061503Z
DTSTART:20180505T010000Z
DTEND:20180505T040000Z
SUMMARY:GOOD CLEAN FILTH
END:VEVENT
END:VCALENDAR
