BEGIN:VCALENDAR
VERSION:2.0
PRODID:-//Squarespace Inc/Squarespace 6//v6//EN
BEGIN:VEVENT
UID:5aeaa1922b6a283a9f8f6f1f@squarespace.com
DTSTAMP:20180503T061557Z
DTSTART:20180512T010000Z
DTEND:20180512T040000Z
SUMMARY:GOOD CLEAN FILTH
END:VEVENT
END:VCALENDAR
