BEGIN:VCALENDAR
VERSION:2.0
PRODID:-//Squarespace Inc/Squarespace 6//v6//EN
BEGIN:VEVENT
UID:5aeaa1b2758d46816cef5142@squarespace.com
DTSTAMP:20180503T061632Z
DTSTART:20180519T010000Z
DTEND:20180519T040000Z
SUMMARY:GOOD CLEAN FILTH
END:VEVENT
END:VCALENDAR
