BEGIN:VCALENDAR
VERSION:2.0
PRODID:-//Squarespace Inc/Squarespace 6//v6//EN
BEGIN:VEVENT
UID:5aeaa2878a922d7249d4ea06@squarespace.com
DTSTAMP:20180503T061720Z
DTSTART:20180526T010000Z
DTEND:20180526T040000Z
SUMMARY:GOOD CLEAN FILTH
END:VEVENT
END:VCALENDAR
