BEGIN:VCALENDAR
VERSION:2.0
PRODID:-//Squarespace Inc/Squarespace 6//v6//EN
BEGIN:VEVENT
UID:5afa33160e2e72b3185d3fb8@squarespace.com
DTSTAMP:20180515T010853Z
DTSTART:20180602T010000Z
DTEND:20180602T040000Z
SUMMARY:GOOD CLEAN FILTH
END:VEVENT
END:VCALENDAR
