BEGIN:VCALENDAR
VERSION:2.0
PRODID:-//Squarespace Inc/Squarespace 6//v6//EN
BEGIN:VEVENT
UID:5afa33328a922de87dfda730@squarespace.com
DTSTAMP:20180515T010917Z
DTSTART:20180609T010000Z
DTEND:20180609T040000Z
SUMMARY:GOOD CLEAN FILTH
END:VEVENT
END:VCALENDAR
