BEGIN:VCALENDAR
VERSION:2.0
PRODID:-//Squarespace Inc/Squarespace 6//v6//EN
BEGIN:VEVENT
UID:5afa334c03ce64e9454ef154@squarespace.com
DTSTAMP:20180515T010943Z
DTSTART:20180616T010000Z
DTEND:20180616T040000Z
SUMMARY:GOOD CLEAN FILTH
END:VEVENT
END:VCALENDAR
