BEGIN:VCALENDAR
VERSION:2.0
PRODID:-//Squarespace Inc/Squarespace 6//v6//EN
BEGIN:VEVENT
UID:5afa336c70a6ad25e68c6916@squarespace.com
DTSTAMP:20180515T011012Z
DTSTART:20180623T010000Z
DTEND:20180623T040000Z
SUMMARY:GOOD CLEAN FILTH
END:VEVENT
END:VCALENDAR
