BEGIN:VCALENDAR
VERSION:2.0
PRODID:-//Squarespace Inc/Squarespace 6//v6//EN
BEGIN:VEVENT
UID:5afa33840e2e72b3185d51af@squarespace.com
DTSTAMP:20180515T011039Z
DTSTART:20180630T010000Z
DTEND:20180630T040000Z
SUMMARY:GOOD CLEAN FILTH
END:VEVENT
END:VCALENDAR
